BEGIN:VCALENDAR
VERSION:2.0
PRODID:-//ConVerve GmbH//B2BMatch//EN
METHOD:PUBLISH
BEGIN:VEVENT
DTSTART:20250330T060000Z
DTEND:20250403T215900Z
SUMMARY:Norwegian Travel Workshop 2025
LOCATION:Nordlandhallen
DESCRIPTION:
UID:0000001
DTSTAMP:20180215T135139Z
END:VEVENT
END:VCALENDAR
